BEGIN:VCALENDAR
VERSION:2.0
PRODID:-//Eventin//Event Calendar//EN
CALSCALE:GREGORIAN
METHOD:PUBLISH
BEGIN:VEVENT
UID:a8f0d909e195336be78efe31c955ec49@hotelgrafaite.com
SUMMARY:Man-go koncertas
DESCRIPTION:Šį sezoną Grafaitė taps tikru POP muzikos centru\, nes mūs
 ų scenoje pasirodys ryškiausios Lietuvos žvaigždės! **\n\n\n\n Jei ie
 škote vietos\, kur šventinė nuotaika ir linksmybės nesibaigia\, tai či
 a – jūsų vieta!\n\n\n\n** VIP atlikėjų sąrašas jau paruoštas\, o
  mūsų vakarai žada būti įsimintini ir kupini geriausios muzikos!Nepral
 eiskite šanso – ateikite ir švęskite žiemos šventes su populiariausi
 ais Lietuvos atlikėjais!\n\n\n\n** Skambinkite ir rezervuokite staliukus 
 dabar\, kol dar yra vietų!Rezervacijos numeris: 8-686 19191Paskubėkite\, 
 vietos sparčiai tirpsta – metas pradėti šventinį planavimą! **
LOCATION:Online
DTSTAMP:20260422T095123Z
DTSTART:20241221T200000Z
DTEND:20260422T120000Z
END:VEVENT
END:VCALENDAR